BEGIN:VCALENDAR
PRODID:-//AT Content Types//AT Event//EN
VERSION:1.0
BEGIN:VEVENT
DTSTART:20130712T160000Z
DTEND:20130714T150000Z
DCREATED:20130302T222250Z
UID:ATEvent-7d73e8e4-bb55-4f6d-a1c7-db379a5af18f
SEQUENCE:0
LAST-MODIFIED:20131008T145506Z
SUMMARY:Coburg Sambafestival 2013
PRIORITY:3
TRANSP:0
END:VEVENT
END:VCALENDAR
