BEGIN:VCALENDAR
PRODID:-//AT Content Types//AT Event//EN
VERSION:1.0
BEGIN:VEVENT
DTSTART:20130209T150000Z
DTEND:20130210T070000Z
DCREATED:20121010T095908Z
UID:ATEvent-22a56d07-2ae7-4efa-a9c6-edca07d7a3cb
SEQUENCE:0
LAST-MODIFIED:20131008T145627Z
SUMMARY:Geisterzug in Köln Karneval 2013
DESCRIPTION:de zuch kütt! un mir och!
LOCATION:kölle
PRIORITY:3
TRANSP:0
END:VEVENT
END:VCALENDAR
