BEGIN:VCALENDAR
PRODID:-//AT Content Types//AT Event//EN
VERSION:2.0
METHOD:PUBLISH
BEGIN:VEVENT
DTSTAMP:20260419T161644Z
CREATED:20151204T181604Z
UID:ATEvent-d385a161-2145-4d3f-be53-c7c3f1e6acca
LAST-MODIFIED:20151204T181617Z
SUMMARY:Adventstrommeln
DTSTART:20151212T110000Z
DTEND:20151212T140000Z
DESCRIPTION:Straßenmusik in den Gassen der Oberstadt
LOCATION:Marburg\, Oberstadt
CLASS:PUBLIC
END:VEVENT
END:VCALENDAR
